BEGIN:VCALENDAR
VERSION:2.0
PRODID:-//Stratton Community - ECPv6.15.16//NONSGML v1.0//EN
CALSCALE:GREGORIAN
METHOD:PUBLISH
X-WR-CALNAME:Stratton Community
X-ORIGINAL-URL:https://www.strattoncommunity.co.uk
X-WR-CALDESC:Events for Stratton Community
REFRESH-INTERVAL;VALUE=DURATION:PT1H
X-Robots-Tag:noindex
X-PUBLISHED-TTL:PT1H
BEGIN:VTIMEZONE
TZID:Europe/London
BEGIN:DAYLIGHT
TZOFFSETFROM:+0000
TZOFFSETTO:+0100
TZNAME:BST
DTSTART:20250330T010000
END:DAYLIGHT
BEGIN:STANDARD
TZOFFSETFROM:+0100
TZOFFSETTO:+0000
TZNAME:GMT
DTSTART:20251026T010000
END:STANDARD
BEGIN:DAYLIGHT
TZOFFSETFROM:+0000
TZOFFSETTO:+0100
TZNAME:BST
DTSTART:20260329T010000
END:DAYLIGHT
BEGIN:STANDARD
TZOFFSETFROM:+0100
TZOFFSETTO:+0000
TZNAME:GMT
DTSTART:20261025T010000
END:STANDARD
BEGIN:DAYLIGHT
TZOFFSETFROM:+0000
TZOFFSETTO:+0100
TZNAME:BST
DTSTART:20270328T010000
END:DAYLIGHT
BEGIN:STANDARD
TZOFFSETFROM:+0100
TZOFFSETTO:+0000
TZNAME:GMT
DTSTART:20271031T010000
END:STANDARD
END:VTIMEZONE
BEGIN:VEVENT
DTSTART;TZID=Europe/London:20260815T193000
DTEND;TZID=Europe/London:20260815T220000
DTSTAMP:20260421T173418
CREATED:20260217T223913Z
LAST-MODIFIED:20260219T105203Z
UID:7713-1786822200-1786831200@www.strattoncommunity.co.uk
SUMMARY:Chris Gorton Bingo @ The Stratton Village Hall
DESCRIPTION:This one is to raise money for Winton Wish
URL:https://www.strattoncommunity.co.uk/event/chris-gorton-bingo-6/
LOCATION:Stratton Village Hall\, Thessaly Road\, GL7 2NG\, United Kingdom
ATTACH;FMTTYPE=image/png:https://www.strattoncommunity.co.uk/wp-content/uploads/2026/02/Copy-of-Untitled-1.png
ORGANIZER;CN="Chris Gorton":MAILTO:gorton.christine@yahoo.com
END:VEVENT
END:VCALENDAR