BEGIN:VCALENDAR
VERSION:2.0
PRODID:-//Stratton Community - ECPv6.15.16//NONSGML v1.0//EN
CALSCALE:GREGORIAN
METHOD:PUBLISH
X-WR-CALNAME:Stratton Community
X-ORIGINAL-URL:https://www.strattoncommunity.co.uk
X-WR-CALDESC:Events for Stratton Community
REFRESH-INTERVAL;VALUE=DURATION:PT1H
X-Robots-Tag:noindex
X-PUBLISHED-TTL:PT1H
BEGIN:VTIMEZONE
TZID:Europe/London
BEGIN:DAYLIGHT
TZOFFSETFROM:+0000
TZOFFSETTO:+0100
TZNAME:BST
DTSTART:20250330T010000
END:DAYLIGHT
BEGIN:STANDARD
TZOFFSETFROM:+0100
TZOFFSETTO:+0000
TZNAME:GMT
DTSTART:20251026T010000
END:STANDARD
BEGIN:DAYLIGHT
TZOFFSETFROM:+0000
TZOFFSETTO:+0100
TZNAME:BST
DTSTART:20260329T010000
END:DAYLIGHT
BEGIN:STANDARD
TZOFFSETFROM:+0100
TZOFFSETTO:+0000
TZNAME:GMT
DTSTART:20261025T010000
END:STANDARD
BEGIN:DAYLIGHT
TZOFFSETFROM:+0000
TZOFFSETTO:+0100
TZNAME:BST
DTSTART:20270328T010000
END:DAYLIGHT
BEGIN:STANDARD
TZOFFSETFROM:+0100
TZOFFSETTO:+0000
TZNAME:GMT
DTSTART:20271031T010000
END:STANDARD
END:VTIMEZONE
BEGIN:VEVENT
DTSTART;TZID=Europe/London:20260429T183000
DTEND;TZID=Europe/London:20260429T220000
DTSTAMP:20260421T122011
CREATED:20260406T194431Z
LAST-MODIFIED:20260406T195847Z
UID:7998-1777487400-1777500000@www.strattoncommunity.co.uk
SUMMARY:Cirencester Band
DESCRIPTION:Concert Starts 7pm\, Doors Open 6.30pm. \nTickets £10. Tea & Cake included.  Available from band members & \nLocal information centre.  Under 16’s Free.
URL:https://www.strattoncommunity.co.uk/event/cirencester-band/
ATTACH;FMTTYPE=image/jpeg:https://www.strattoncommunity.co.uk/wp-content/uploads/2026/04/20260406_205148.jpg
END:VEVENT
BEGIN:VEVENT
DTSTART;TZID=Europe/London:20260509T100000
DTEND;TZID=Europe/London:20260509T133000
DTSTAMP:20260421T122011
CREATED:20260406T170914Z
LAST-MODIFIED:20260406T170914Z
UID:7986-1778320800-1778333400@www.strattoncommunity.co.uk
SUMMARY:REPAIR CAFE
DESCRIPTION:We can try to mend toys\, clothes\, small electricals\, household items and bikes. \nWe meet at the Baptist Church\, Chesterton Lane\, GL7 1YE. \nTel: 07526676822 or facebook.com/cirenrepaircafe
URL:https://www.strattoncommunity.co.uk/event/repair-cafe-2/
ATTACH;FMTTYPE=image/jpeg:https://www.strattoncommunity.co.uk/wp-content/uploads/2026/04/Logo-v1-1.jpg
END:VEVENT
BEGIN:VEVENT
DTSTART;TZID=Europe/London:20260516T193000
DTEND;TZID=Europe/London:20260516T220000
DTSTAMP:20260421T122011
CREATED:20260217T223612Z
LAST-MODIFIED:20260219T104239Z
UID:7704-1778959800-1778968800@www.strattoncommunity.co.uk
SUMMARY:Chris Gorton Bingo
DESCRIPTION:This one is to raise money for Parkinsons.\nTel: 07969476435 to reserve a place
URL:https://www.strattoncommunity.co.uk/event/chris-gorton-bingo-3/
LOCATION:Stratton Village Hall\, Thessaly Road\, GL7 2NG\, United Kingdom
ATTACH;FMTTYPE=image/png:https://www.strattoncommunity.co.uk/wp-content/uploads/2026/02/Copy-of-Untitled-1.png
END:VEVENT
BEGIN:VEVENT
DTSTART;TZID=Europe/London:20260521T190000
DTEND;TZID=Europe/London:20260521T210000
DTSTAMP:20260421T122011
CREATED:20260217T222227Z
LAST-MODIFIED:20260219T104428Z
UID:7678-1779390000-1779397200@www.strattoncommunity.co.uk
SUMMARY:Stratton W.i
DESCRIPTION:Bess Of Hardwick – Dr Gillian White
URL:https://www.strattoncommunity.co.uk/event/stratton-w-i-4/
LOCATION:Stratton Village Hall\, Thessaly Road\, GL7 2NG\, United Kingdom
ATTACH;FMTTYPE=image/webp:https://www.strattoncommunity.co.uk/wp-content/uploads/2026/01/WI-Image.webp
END:VEVENT
BEGIN:VEVENT
DTSTART;TZID=Europe/London:20260613T100000
DTEND;TZID=Europe/London:20260613T133000
DTSTAMP:20260421T122011
CREATED:20260406T171524Z
LAST-MODIFIED:20260406T171524Z
UID:7989-1781344800-1781357400@www.strattoncommunity.co.uk
SUMMARY:REPAIR CAFE
DESCRIPTION:We can try to mend toys\, Clothes\, small electricals\, household items and bikes. \nWe meet at the Baptist Church\, Chesterton Lane\, GL7 1YE. \nTel: 07526676822 or facebook.com/cirenrepaircafe
URL:https://www.strattoncommunity.co.uk/event/repair-cafe-3/
ATTACH;FMTTYPE=image/jpeg:https://www.strattoncommunity.co.uk/wp-content/uploads/2026/04/Logo-v1-1.jpg
END:VEVENT
BEGIN:VEVENT
DTSTART;TZID=Europe/London:20260613T193000
DTEND;TZID=Europe/London:20260613T220000
DTSTAMP:20260421T122011
CREATED:20260217T223709Z
LAST-MODIFIED:20260219T104611Z
UID:7707-1781379000-1781388000@www.strattoncommunity.co.uk
SUMMARY:Chris Gorton Bingo @ The Stratton Village Hall
DESCRIPTION:This one is to raise money for the Phoenix Festival
URL:https://www.strattoncommunity.co.uk/event/chris-gorton-bingo-4/
LOCATION:Stratton Village Hall\, Thessaly Road\, GL7 2NG\, United Kingdom
ATTACH;FMTTYPE=image/png:https://www.strattoncommunity.co.uk/wp-content/uploads/2026/02/Copy-of-Untitled-1.png
END:VEVENT
BEGIN:VEVENT
DTSTART;TZID=Europe/London:20260618T190000
DTEND;TZID=Europe/London:20260618T210000
DTSTAMP:20260421T122011
CREATED:20260217T222334Z
LAST-MODIFIED:20260219T104732Z
UID:7680-1781809200-1781816400@www.strattoncommunity.co.uk
SUMMARY:Stratton W.I
DESCRIPTION:The Remarkable History Of Shoes – Sally Ferrers
URL:https://www.strattoncommunity.co.uk/event/stratton-w-i-5/
LOCATION:Stratton Village Hall\, Thessaly Road\, GL7 2NG\, United Kingdom
ATTACH;FMTTYPE=image/webp:https://www.strattoncommunity.co.uk/wp-content/uploads/2026/01/WI-Image.webp
END:VEVENT
BEGIN:VEVENT
DTSTART;TZID=Europe/London:20260629T140000
DTEND;TZID=Europe/London:20260629T160000
DTSTAMP:20260421T122011
CREATED:20260309T152353Z
LAST-MODIFIED:20260309T153857Z
UID:7857-1782741600-1782748800@www.strattoncommunity.co.uk
SUMMARY:Stratton School Fayre
DESCRIPTION:Raising funds for Stratton School PTA. \nSponsored by Cain and Fuller. \n  \n  \n 
URL:https://www.strattoncommunity.co.uk/event/stratton-school-fayre/
LOCATION:Stratton Village Hall\, Thessaly Road\, GL7 2NG\, United Kingdom
ATTACH;FMTTYPE=image/jpeg:https://www.strattoncommunity.co.uk/wp-content/uploads/2026/03/FB_IMG_1773064441302.jpg
END:VEVENT
BEGIN:VEVENT
DTSTART;TZID=Europe/London:20260711T100000
DTEND;TZID=Europe/London:20260711T133000
DTSTAMP:20260421T122011
CREATED:20260406T172125Z
LAST-MODIFIED:20260406T172125Z
UID:7991-1783764000-1783776600@www.strattoncommunity.co.uk
SUMMARY:REPAIR CAFE
DESCRIPTION:We try to mend toys\, clothes\, small electricals\, household items and bikes. \nWe meet at the Baptist Church\, Chesterton Lane\, GL7 1YE \nTel: 07526676822 or facebook.com/cirenrepaircafe
URL:https://www.strattoncommunity.co.uk/event/repair-cafe-4/
ATTACH;FMTTYPE=image/jpeg:https://www.strattoncommunity.co.uk/wp-content/uploads/2026/04/Logo-v1-1.jpg
END:VEVENT
BEGIN:VEVENT
DTSTART;TZID=Europe/London:20260715T193000
DTEND;TZID=Europe/London:20260715T223000
DTSTAMP:20260421T122011
CREATED:20260314T222306Z
LAST-MODIFIED:20260315T171808Z
UID:7870-1784143800-1784154600@www.strattoncommunity.co.uk
SUMMARY:Apollo Theatricals
DESCRIPTION:Apollo Theatricals will be presenting Moliere’s Tartuffe \nat the Old Kennels in Cirencester Park
URL:https://www.strattoncommunity.co.uk/event/apollo-theatricals/
LOCATION:The Old Kennells\, Cirencester Park
END:VEVENT
BEGIN:VEVENT
DTSTART;TZID=Europe/London:20260716T190000
DTEND;TZID=Europe/London:20260716T210000
DTSTAMP:20260421T122011
CREATED:20260217T222426Z
LAST-MODIFIED:20260219T104941Z
UID:7683-1784228400-1784235600@www.strattoncommunity.co.uk
SUMMARY:Stratton W.I
DESCRIPTION:Summer Social Meeting
URL:https://www.strattoncommunity.co.uk/event/stratton-w-i-6/
LOCATION:Stratton Village Hall\, Thessaly Road\, GL7 2NG\, United Kingdom
ATTACH;FMTTYPE=image/webp:https://www.strattoncommunity.co.uk/wp-content/uploads/2026/01/WI-Image.webp
END:VEVENT
BEGIN:VEVENT
DTSTART;TZID=Europe/London:20260716T193000
DTEND;TZID=Europe/London:20260716T223000
DTSTAMP:20260421T122011
CREATED:20260315T171406Z
LAST-MODIFIED:20260315T171406Z
UID:7874-1784230200-1784241000@www.strattoncommunity.co.uk
SUMMARY:Apollo Theatricals
DESCRIPTION:Apollo Theatricals will be presenting Moliere’s Tartuffe. \nThe Old Kennels in Cirencester Park.
URL:https://www.strattoncommunity.co.uk/event/apollo-theatricals-2/
LOCATION:The Old Kennells\, Cirencester Park
END:VEVENT
BEGIN:VEVENT
DTSTART;TZID=Europe/London:20260717T193000
DTEND;TZID=Europe/London:20260717T220000
DTSTAMP:20260421T122011
CREATED:20260315T181736Z
LAST-MODIFIED:20260315T181736Z
UID:7879-1784316600-1784325600@www.strattoncommunity.co.uk
SUMMARY:Apollo Theatricals
DESCRIPTION:Apollo Theatricals will be presenting Moliere’s Tartuffe \nThe Old Kennels in Cirencester Park
URL:https://www.strattoncommunity.co.uk/event/apollo-theatricals-4/
LOCATION:The Old Kennells\, Cirencester Park
END:VEVENT
BEGIN:VEVENT
DTSTART;TZID=Europe/London:20260718T193000
DTEND;TZID=Europe/London:20260718T220000
DTSTAMP:20260421T122011
CREATED:20260217T223824Z
LAST-MODIFIED:20260219T105020Z
UID:7710-1784403000-1784412000@www.strattoncommunity.co.uk
SUMMARY:Chris Gorton Bingo @ The Stratton Village Hall
DESCRIPTION:This one is to raise money for CHYP.\nTel: 07969476435 to reserve a place
URL:https://www.strattoncommunity.co.uk/event/chris-gorton-bingo-5/
LOCATION:Stratton Village Hall\, Thessaly Road\, GL7 2NG\, United Kingdom
ATTACH;FMTTYPE=image/png:https://www.strattoncommunity.co.uk/wp-content/uploads/2026/02/Copy-of-Untitled-1.png
END:VEVENT
BEGIN:VEVENT
DTSTART;TZID=Europe/London:20260718T193000
DTEND;TZID=Europe/London:20260718T223000
DTSTAMP:20260421T122011
CREATED:20260315T182232Z
LAST-MODIFIED:20260315T182232Z
UID:7882-1784403000-1784413800@www.strattoncommunity.co.uk
SUMMARY:Apollo Theatricals
DESCRIPTION:Apollo Theatricals will be presenting Moliere’s Tartuffe. \nThe Old Kennels in Cirencester Park
URL:https://www.strattoncommunity.co.uk/event/apollo-theatricals-3/
LOCATION:The Old Kennells\, Cirencester Park
END:VEVENT
BEGIN:VEVENT
DTSTART;TZID=Europe/London:20260814T100000
DTEND;TZID=Europe/London:20260814T133000
DTSTAMP:20260421T122011
CREATED:20260406T172647Z
LAST-MODIFIED:20260406T172647Z
UID:7993-1786701600-1786714200@www.strattoncommunity.co.uk
SUMMARY:REPAIR CAFE
DESCRIPTION:We try to mend toys\, clothes\, small electricals\, household items and bikes. \nWe meet at the Baptist Church\, Chesterton Lane. GL7 1YE. \nTel: 07526676822 or facebook.com/cirenrepaircafe
URL:https://www.strattoncommunity.co.uk/event/repair-cafe-5/
ATTACH;FMTTYPE=image/jpeg:https://www.strattoncommunity.co.uk/wp-content/uploads/2026/04/Logo-v1-1.jpg
END:VEVENT
BEGIN:VEVENT
DTSTART;TZID=Europe/London:20260815T193000
DTEND;TZID=Europe/London:20260815T220000
DTSTAMP:20260421T122011
CREATED:20260217T223913Z
LAST-MODIFIED:20260219T105203Z
UID:7713-1786822200-1786831200@www.strattoncommunity.co.uk
SUMMARY:Chris Gorton Bingo @ The Stratton Village Hall
DESCRIPTION:This one is to raise money for Winton Wish
URL:https://www.strattoncommunity.co.uk/event/chris-gorton-bingo-6/
LOCATION:Stratton Village Hall\, Thessaly Road\, GL7 2NG\, United Kingdom
ATTACH;FMTTYPE=image/png:https://www.strattoncommunity.co.uk/wp-content/uploads/2026/02/Copy-of-Untitled-1.png
ORGANIZER;CN="Chris Gorton":MAILTO:gorton.christine@yahoo.com
END:VEVENT
BEGIN:VEVENT
DTSTART;TZID=Europe/London:20260912T100000
DTEND;TZID=Europe/London:20260912T133000
DTSTAMP:20260421T122011
CREATED:20260406T173605Z
LAST-MODIFIED:20260406T173605Z
UID:7996-1789207200-1789219800@www.strattoncommunity.co.uk
SUMMARY:REPAIR CAFE
DESCRIPTION:We try to mend\, toys\, clothes\, small electricals\, household items and bikes. \nWe meet at the Baptist Church\, Chesterton Lane. GL7 1YE. \nTel: 07526676822 or facebook.com/cirenrepaircafe
URL:https://www.strattoncommunity.co.uk/event/repair-cafe-6/
ATTACH;FMTTYPE=image/jpeg:https://www.strattoncommunity.co.uk/wp-content/uploads/2026/04/Logo-v1-1.jpg
END:VEVENT
BEGIN:VEVENT
DTSTART;TZID=Europe/London:20260912T193000
DTEND;TZID=Europe/London:20260912T220000
DTSTAMP:20260421T122011
CREATED:20260217T224008Z
LAST-MODIFIED:20260219T105353Z
UID:7716-1789241400-1789250400@www.strattoncommunity.co.uk
SUMMARY:Chris Gorton Bingo
DESCRIPTION:This one is to raise money for Stratton School
URL:https://www.strattoncommunity.co.uk/event/chris-gorton-bingo-7/
LOCATION:Stratton Village Hall\, Thessaly Road\, GL7 2NG\, United Kingdom
ATTACH;FMTTYPE=image/png:https://www.strattoncommunity.co.uk/wp-content/uploads/2026/02/Copy-of-Untitled-1.png
END:VEVENT
BEGIN:VEVENT
DTSTART;TZID=Europe/London:20260917T190000
DTEND;TZID=Europe/London:20260917T210000
DTSTAMP:20260421T122011
CREATED:20260217T222523Z
LAST-MODIFIED:20260219T105557Z
UID:7686-1789671600-1789678800@www.strattoncommunity.co.uk
SUMMARY:Stratton W.I
DESCRIPTION:From Cadfael to Caroline – Caroline Sheldrick
URL:https://www.strattoncommunity.co.uk/event/stratton-w-i-7/
LOCATION:Stratton Village Hall\, Thessaly Road\, GL7 2NG\, United Kingdom
ATTACH;FMTTYPE=image/webp:https://www.strattoncommunity.co.uk/wp-content/uploads/2026/01/WI-Image.webp
END:VEVENT
BEGIN:VEVENT
DTSTART;TZID=Europe/London:20261003T073000
DTEND;TZID=Europe/London:20261003T220000
DTSTAMP:20260421T122011
CREATED:20260217T224334Z
LAST-MODIFIED:20260219T105803Z
UID:7719-1791012600-1791064800@www.strattoncommunity.co.uk
SUMMARY:Chris Gorton Bingo @ The Stratton Village Hall
DESCRIPTION:This one is to raise money for Cirencester Opportunity Group.\nTel: 07969476435 to reserve a place
URL:https://www.strattoncommunity.co.uk/event/chris-gorton-bingo-8/
LOCATION:Stratton Village Hall\, Thessaly Road\, GL7 2NG\, United Kingdom
ATTACH;FMTTYPE=image/png:https://www.strattoncommunity.co.uk/wp-content/uploads/2026/02/Copy-of-Untitled-1.png
END:VEVENT
BEGIN:VEVENT
DTSTART;TZID=Europe/London:20261015T190000
DTEND;TZID=Europe/London:20261015T210000
DTSTAMP:20260421T122011
CREATED:20260217T222659Z
LAST-MODIFIED:20260218T203123Z
UID:7689-1792090800-1792098000@www.strattoncommunity.co.uk
SUMMARY:Stratton W.I
DESCRIPTION:The Arcane\, Bizarre and Darn Right Witchy – Kirsty Bingham\, from the John Moore Museum
URL:https://www.strattoncommunity.co.uk/event/stratton-w-i-8/
LOCATION:Stratton Village Hall\, Thessaly Road\, GL7 2NG\, United Kingdom
ATTACH;FMTTYPE=image/png:https://www.strattoncommunity.co.uk/wp-content/uploads/2026/01/17685042183005637886515240219907.png
END:VEVENT
BEGIN:VEVENT
DTSTART;TZID=Europe/London:20261114T193000
DTEND;TZID=Europe/London:20261114T220000
DTSTAMP:20260421T122011
CREATED:20260217T224536Z
LAST-MODIFIED:20260219T110027Z
UID:7721-1794684600-1794693600@www.strattoncommunity.co.uk
SUMMARY:Chris Gorton Bingo @ The Stratton Village Hall
DESCRIPTION:This one is to raise money for the Barn Theatre.\nTel: 07969476435 to reserve a place
URL:https://www.strattoncommunity.co.uk/event/chris-gorton-bingo-9/
LOCATION:Stratton Village Hall\, Thessaly Road\, GL7 2NG\, United Kingdom
ATTACH;FMTTYPE=image/png:https://www.strattoncommunity.co.uk/wp-content/uploads/2026/02/Copy-of-Untitled-1.png
END:VEVENT
BEGIN:VEVENT
DTSTART;TZID=Europe/London:20261119T190000
DTEND;TZID=Europe/London:20261119T210000
DTSTAMP:20260421T122011
CREATED:20260217T222834Z
LAST-MODIFIED:20260219T110344Z
UID:7691-1795114800-1795122000@www.strattoncommunity.co.uk
SUMMARY:Stratton W.I
DESCRIPTION:AGM followed by One Man\, a horse and 2700 miles – William Reddaway
URL:https://www.strattoncommunity.co.uk/event/stratton-w-i-9/
LOCATION:Stratton Village Hall\, Thessaly Road\, GL7 2NG\, United Kingdom
ATTACH;FMTTYPE=image/webp:https://www.strattoncommunity.co.uk/wp-content/uploads/2026/01/WI-Image.webp
END:VEVENT
BEGIN:VEVENT
DTSTART;TZID=Europe/London:20261203T073000
DTEND;TZID=Europe/London:20261203T220000
DTSTAMP:20260421T122011
CREATED:20260217T222942Z
LAST-MODIFIED:20260218T182710Z
UID:7693-1796283000-1796335200@www.strattoncommunity.co.uk
SUMMARY:Stratton W.I
DESCRIPTION:He’s behind you\, the story of Pantomime in England – Sara Gray
URL:https://www.strattoncommunity.co.uk/event/stratton-w-i-10/
LOCATION:Stratton Village Hall\, Thessaly Road\, GL7 2NG\, United Kingdom
ATTACH;FMTTYPE=image/png:https://www.strattoncommunity.co.uk/wp-content/uploads/2026/01/17685042183005637886515240219907.png
ORGANIZER;CN="Chris Gorton":MAILTO:gorton.christine@yahoo.com
END:VEVENT
BEGIN:VEVENT
DTSTART;TZID=Europe/London:20261205T073000
DTEND;TZID=Europe/London:20261205T220000
DTSTAMP:20260421T122011
CREATED:20260217T224654Z
LAST-MODIFIED:20260218T224330Z
UID:7723-1796455800-1796508000@www.strattoncommunity.co.uk
SUMMARY:Chris Gorton Bingo @ The Stratton Village Hall
DESCRIPTION:This one is to raise money for The Lakes\, South Cerney (the order of St. Johns Care Trust).\nTel: 07969476435 to reserve a place
URL:https://www.strattoncommunity.co.uk/event/chris-gorton-bingo-10/
LOCATION:Stratton Village Hall\, Thessaly Road\, GL7 2NG\, United Kingdom
ATTACH;FMTTYPE=image/jpeg:https://www.strattoncommunity.co.uk/wp-content/uploads/2026/01/20260131_114848.jpg
ORGANIZER;CN="Chris Gorton":MAILTO:gorton.christine@yahoo.com
END:VEVENT
END:VCALENDAR