BEGIN:VCALENDAR
VERSION:2.0
PRODID:-//Stratton Community - ECPv6.15.16//NONSGML v1.0//EN
CALSCALE:GREGORIAN
METHOD:PUBLISH
X-WR-CALNAME:Stratton Community
X-ORIGINAL-URL:https://www.strattoncommunity.co.uk
X-WR-CALDESC:Events for Stratton Community
REFRESH-INTERVAL;VALUE=DURATION:PT1H
X-Robots-Tag:noindex
X-PUBLISHED-TTL:PT1H
BEGIN:VTIMEZONE
TZID:Europe/London
BEGIN:DAYLIGHT
TZOFFSETFROM:+0000
TZOFFSETTO:+0100
TZNAME:BST
DTSTART:20250330T010000
END:DAYLIGHT
BEGIN:STANDARD
TZOFFSETFROM:+0100
TZOFFSETTO:+0000
TZNAME:GMT
DTSTART:20251026T010000
END:STANDARD
BEGIN:DAYLIGHT
TZOFFSETFROM:+0000
TZOFFSETTO:+0100
TZNAME:BST
DTSTART:20260329T010000
END:DAYLIGHT
BEGIN:STANDARD
TZOFFSETFROM:+0100
TZOFFSETTO:+0000
TZNAME:GMT
DTSTART:20261025T010000
END:STANDARD
BEGIN:DAYLIGHT
TZOFFSETFROM:+0000
TZOFFSETTO:+0100
TZNAME:BST
DTSTART:20270328T010000
END:DAYLIGHT
BEGIN:STANDARD
TZOFFSETFROM:+0100
TZOFFSETTO:+0000
TZNAME:GMT
DTSTART:20271031T010000
END:STANDARD
END:VTIMEZONE
BEGIN:VEVENT
DTSTART;TZID=Europe/London:20260409T193000
DTEND;TZID=Europe/London:20260409T213000
DTSTAMP:20260422T005636
CREATED:20260219T120638Z
LAST-MODIFIED:20260219T120921Z
UID:7820-1775763000-1775770200@www.strattoncommunity.co.uk
SUMMARY:Cirencester Gardening Club
DESCRIPTION:Club Meeting- \nSpeaker Robin Pearce “Hostas and Companion Plants”
URL:https://www.strattoncommunity.co.uk/event/cirencester-gardening-club-2/
LOCATION:Stratton Village Hall\, Thessaly Road\, GL7 2NG\, United Kingdom
ATTACH;FMTTYPE=image/jpeg:https://www.strattoncommunity.co.uk/wp-content/uploads/2025/12/Stratton-Horticultural-Society.jpg
END:VEVENT
BEGIN:VEVENT
DTSTART;TZID=Europe/London:20260404T193000
DTEND;TZID=Europe/London:20260404T223000
DTSTAMP:20260422T005636
CREATED:20260305T160510Z
LAST-MODIFIED:20260306T161746Z
UID:7834-1775331000-1775341800@www.strattoncommunity.co.uk
SUMMARY:Race Night
DESCRIPTION:To Raise money for the Royal British Legion . \nat The Drillman’s Arms.  7.30pm
URL:https://www.strattoncommunity.co.uk/event/race-night/
LOCATION:Drillmans Arms
ATTACH;FMTTYPE=image/jpeg:https://www.strattoncommunity.co.uk/wp-content/uploads/2026/03/WhatsApp-Image-2026-03-06-at-15.53.59.jpeg
END:VEVENT
BEGIN:VEVENT
DTSTART;TZID=Europe/London:20260403T190000
DTEND;TZID=Europe/London:20260403T220000
DTSTAMP:20260422T005636
CREATED:20260331T205734Z
LAST-MODIFIED:20260331T205734Z
UID:7975-1775242800-1775253600@www.strattoncommunity.co.uk
SUMMARY:OINK Pie Night
DESCRIPTION:Oink are having a pie night at the Drillmans.
URL:https://www.strattoncommunity.co.uk/event/oink-pie-night/
ATTACH;FMTTYPE=image/jpeg:https://www.strattoncommunity.co.uk/wp-content/uploads/2026/03/IMG_7164.jpg
END:VEVENT
BEGIN:VEVENT
DTSTART;TZID=Europe/London:20260328T073000
DTEND;TZID=Europe/London:20260328T220000
DTSTAMP:20260422T005636
CREATED:20260217T223350Z
LAST-MODIFIED:20260218T225036Z
UID:7699-1774683000-1774735200@www.strattoncommunity.co.uk
SUMMARY:Chris Gorton Bingo @ The Stratton Village Hall
DESCRIPTION:This one is to raise money for Stratton pre-school
URL:https://www.strattoncommunity.co.uk/event/chris-gorton-bingo/
LOCATION:Stratton Village Hall\, Thessaly Road\, GL7 2NG\, United Kingdom
ATTACH;FMTTYPE=image/png:https://www.strattoncommunity.co.uk/wp-content/uploads/2026/02/Copy-of-Untitled-1.png
ORGANIZER;CN="Chris Gorton":MAILTO:gorton.christine@yahoo.com
END:VEVENT
BEGIN:VEVENT
DTSTART;TZID=Europe/London:20260326T190000
DTEND;TZID=Europe/London:20260326T193000
DTSTAMP:20260422T005636
CREATED:20260309T190947Z
LAST-MODIFIED:20260309T192119Z
UID:7862-1774551600-1774553400@www.strattoncommunity.co.uk
SUMMARY:Film Night @ The Stratton Village Hall
DESCRIPTION:Film Night\nTHE BALLAD OF WALLIS ISLAND\nThursday\, March 26th 2026\n7.00 – 7.30 p.m.
URL:https://www.strattoncommunity.co.uk/event/film-night-the-stratton-village-hall/
LOCATION:Stratton Village Hall\, Thessaly Road\, GL7 2NG\, United Kingdom
ATTACH;FMTTYPE=image/png:https://www.strattoncommunity.co.uk/wp-content/uploads/2025/06/1.png
END:VEVENT
BEGIN:VEVENT
DTSTART;TZID=Europe/London:20260319T190000
DTEND;TZID=Europe/London:20260319T210000
DTSTAMP:20260422T005636
CREATED:20260217T221910Z
LAST-MODIFIED:20260218T230609Z
UID:7672-1773946800-1773954000@www.strattoncommunity.co.uk
SUMMARY:WI Event @ The Stratton Village Hall
DESCRIPTION:Craft Evening
URL:https://www.strattoncommunity.co.uk/event/stratton-w-i-2/
LOCATION:Stratton Village Hall\, Thessaly Road\, GL7 2NG\, United Kingdom
ATTACH;FMTTYPE=image/png:https://www.strattoncommunity.co.uk/wp-content/uploads/2026/01/17685042183005637886515240219907.png
END:VEVENT
BEGIN:VEVENT
DTSTART;TZID=Europe/London:20260315T140000
DTEND;TZID=Europe/London:20260315T160000
DTSTAMP:20260422T005636
CREATED:20260218T214811Z
LAST-MODIFIED:20260219T103957Z
UID:7795-1773583200-1773590400@www.strattoncommunity.co.uk
SUMMARY:Mother's Day @ the Stratton House Hotel
DESCRIPTION:Stratton Suite
URL:https://www.strattoncommunity.co.uk/event/mothers-day-at-the-stratton-house-hotel/
LOCATION:Stratton Suite
ATTACH;FMTTYPE=image/png:https://www.strattoncommunity.co.uk/wp-content/uploads/2025/11/Untitled-design-2025-11-28T123354.196.png
END:VEVENT
BEGIN:VEVENT
DTSTART;TZID=Europe/London:20260312T193000
DTEND;TZID=Europe/London:20260312T213000
DTSTAMP:20260422T005636
CREATED:20260219T120145Z
LAST-MODIFIED:20260219T120145Z
UID:7818-1773343800-1773351000@www.strattoncommunity.co.uk
SUMMARY:Cirencester Gardening Club
DESCRIPTION:Spring Bulb Show
URL:https://www.strattoncommunity.co.uk/event/cirencester-gardening-club/
LOCATION:Stratton Village Hall\, Thessaly Road\, GL7 2NG\, United Kingdom
ATTACH;FMTTYPE=image/jpeg:https://www.strattoncommunity.co.uk/wp-content/uploads/2025/12/Stratton-Horticultural-Society.jpg
END:VEVENT
BEGIN:VEVENT
DTSTART;TZID=Europe/London:20260307T100000
DTEND;TZID=Europe/London:20260307T120000
DTSTAMP:20260422T005636
CREATED:20260217T223208Z
LAST-MODIFIED:20260218T013023Z
UID:7696-1772877600-1772884800@www.strattoncommunity.co.uk
SUMMARY:Phoenix Gardeners
DESCRIPTION:Coffee morning in Ashcroft Church\, Ashcroft Road. We will have cakes\, bric-a-brac and plants. Help make our town a vibrant place to live in and to visit.
URL:https://www.strattoncommunity.co.uk/event/phoenix-gardeners/
LOCATION:Ashcroft Church\, 21 Ashcroft Road\, Cirencester\, GL7 1RA
ATTACH;FMTTYPE=image/jpeg:https://www.strattoncommunity.co.uk/wp-content/uploads/2026/01/Phoenix-Gardeners.jpg
END:VEVENT
BEGIN:VEVENT
DTSTART;TZID=Europe/London:20260226T190000
DTEND;TZID=Europe/London:20260226T213000
DTSTAMP:20260422T005636
CREATED:20260217T175607Z
LAST-MODIFIED:20260218T221631Z
UID:7659-1772132400-1772141400@www.strattoncommunity.co.uk
SUMMARY:Film Night @ The Stratton Village Hall
DESCRIPTION:DOWNTON ABBEY: The Grand Finale
URL:https://www.strattoncommunity.co.uk/event/film-night/
LOCATION:Stratton Village Hall\, Thessaly Road\, GL7 2NG\, United Kingdom
ATTACH;FMTTYPE=image/jpeg:https://www.strattoncommunity.co.uk/wp-content/uploads/2025/06/Stratton-VIllage-Hall.jpg
END:VEVENT
BEGIN:VEVENT
DTSTART;TZID=Europe/London:20260217T190000
DTEND;TZID=Europe/London:20260217T210000
DTSTAMP:20260422T005636
CREATED:20260217T182508Z
LAST-MODIFIED:20260218T230527Z
UID:7665-1771354800-1771362000@www.strattoncommunity.co.uk
SUMMARY:WI Event @ The Stratton Village Hall
DESCRIPTION:The Golden Age Of Hollywood – Lesley Holland
URL:https://www.strattoncommunity.co.uk/event/stratton-w-i/
LOCATION:Stratton Village Hall\, Thessaly Road\, GL7 2NG\, United Kingdom
ATTACH;FMTTYPE=image/webp:https://www.strattoncommunity.co.uk/wp-content/uploads/2026/01/WI-Image.webp
END:VEVENT
END:VCALENDAR