BEGIN:VCALENDAR
VERSION:2.0
PRODID:-//Stratton Community - ECPv6.15.16//NONSGML v1.0//EN
CALSCALE:GREGORIAN
METHOD:PUBLISH
X-ORIGINAL-URL:https://www.strattoncommunity.co.uk
X-WR-CALDESC:Events for Stratton Community
REFRESH-INTERVAL;VALUE=DURATION:PT1H
X-Robots-Tag:noindex
X-PUBLISHED-TTL:PT1H
BEGIN:VTIMEZONE
TZID:Europe/London
BEGIN:DAYLIGHT
TZOFFSETFROM:+0000
TZOFFSETTO:+0100
TZNAME:BST
DTSTART:20250330T010000
END:DAYLIGHT
BEGIN:STANDARD
TZOFFSETFROM:+0100
TZOFFSETTO:+0000
TZNAME:GMT
DTSTART:20251026T010000
END:STANDARD
BEGIN:DAYLIGHT
TZOFFSETFROM:+0000
TZOFFSETTO:+0100
TZNAME:BST
DTSTART:20260329T010000
END:DAYLIGHT
BEGIN:STANDARD
TZOFFSETFROM:+0100
TZOFFSETTO:+0000
TZNAME:GMT
DTSTART:20261025T010000
END:STANDARD
BEGIN:DAYLIGHT
TZOFFSETFROM:+0000
TZOFFSETTO:+0100
TZNAME:BST
DTSTART:20270328T010000
END:DAYLIGHT
BEGIN:STANDARD
TZOFFSETFROM:+0100
TZOFFSETTO:+0000
TZNAME:GMT
DTSTART:20271031T010000
END:STANDARD
END:VTIMEZONE
BEGIN:VEVENT
DTSTART;TZID=Europe/London:20261003T073000
DTEND;TZID=Europe/London:20261003T220000
DTSTAMP:20260421T154129
CREATED:20260217T224334Z
LAST-MODIFIED:20260219T105803Z
UID:7719-1791012600-1791064800@www.strattoncommunity.co.uk
SUMMARY:Chris Gorton Bingo @ The Stratton Village Hall
DESCRIPTION:This one is to raise money for Cirencester Opportunity Group.\nTel: 07969476435 to reserve a place
URL:https://www.strattoncommunity.co.uk/event/chris-gorton-bingo-8/
LOCATION:Stratton Village Hall\, Thessaly Road\, GL7 2NG\, United Kingdom
ATTACH;FMTTYPE=image/png:https://www.strattoncommunity.co.uk/wp-content/uploads/2026/02/Copy-of-Untitled-1.png
END:VEVENT
BEGIN:VEVENT
DTSTART;TZID=Europe/London:20261015T190000
DTEND;TZID=Europe/London:20261015T210000
DTSTAMP:20260421T154129
CREATED:20260217T222659Z
LAST-MODIFIED:20260218T203123Z
UID:7689-1792090800-1792098000@www.strattoncommunity.co.uk
SUMMARY:Stratton W.I
DESCRIPTION:The Arcane\, Bizarre and Darn Right Witchy – Kirsty Bingham\, from the John Moore Museum
URL:https://www.strattoncommunity.co.uk/event/stratton-w-i-8/
LOCATION:Stratton Village Hall\, Thessaly Road\, GL7 2NG\, United Kingdom
ATTACH;FMTTYPE=image/png:https://www.strattoncommunity.co.uk/wp-content/uploads/2026/01/17685042183005637886515240219907.png
END:VEVENT
BEGIN:VEVENT
DTSTART;TZID=Europe/London:20261114T193000
DTEND;TZID=Europe/London:20261114T220000
DTSTAMP:20260421T154129
CREATED:20260217T224536Z
LAST-MODIFIED:20260219T110027Z
UID:7721-1794684600-1794693600@www.strattoncommunity.co.uk
SUMMARY:Chris Gorton Bingo @ The Stratton Village Hall
DESCRIPTION:This one is to raise money for the Barn Theatre.\nTel: 07969476435 to reserve a place
URL:https://www.strattoncommunity.co.uk/event/chris-gorton-bingo-9/
LOCATION:Stratton Village Hall\, Thessaly Road\, GL7 2NG\, United Kingdom
ATTACH;FMTTYPE=image/png:https://www.strattoncommunity.co.uk/wp-content/uploads/2026/02/Copy-of-Untitled-1.png
END:VEVENT
BEGIN:VEVENT
DTSTART;TZID=Europe/London:20261119T190000
DTEND;TZID=Europe/London:20261119T210000
DTSTAMP:20260421T154129
CREATED:20260217T222834Z
LAST-MODIFIED:20260219T110344Z
UID:7691-1795114800-1795122000@www.strattoncommunity.co.uk
SUMMARY:Stratton W.I
DESCRIPTION:AGM followed by One Man\, a horse and 2700 miles – William Reddaway
URL:https://www.strattoncommunity.co.uk/event/stratton-w-i-9/
LOCATION:Stratton Village Hall\, Thessaly Road\, GL7 2NG\, United Kingdom
ATTACH;FMTTYPE=image/webp:https://www.strattoncommunity.co.uk/wp-content/uploads/2026/01/WI-Image.webp
END:VEVENT
BEGIN:VEVENT
DTSTART;TZID=Europe/London:20261203T073000
DTEND;TZID=Europe/London:20261203T220000
DTSTAMP:20260421T154129
CREATED:20260217T222942Z
LAST-MODIFIED:20260218T182710Z
UID:7693-1796283000-1796335200@www.strattoncommunity.co.uk
SUMMARY:Stratton W.I
DESCRIPTION:He’s behind you\, the story of Pantomime in England – Sara Gray
URL:https://www.strattoncommunity.co.uk/event/stratton-w-i-10/
LOCATION:Stratton Village Hall\, Thessaly Road\, GL7 2NG\, United Kingdom
ATTACH;FMTTYPE=image/png:https://www.strattoncommunity.co.uk/wp-content/uploads/2026/01/17685042183005637886515240219907.png
ORGANIZER;CN="Chris Gorton":MAILTO:gorton.christine@yahoo.com
END:VEVENT
BEGIN:VEVENT
DTSTART;TZID=Europe/London:20261205T073000
DTEND;TZID=Europe/London:20261205T220000
DTSTAMP:20260421T154129
CREATED:20260217T224654Z
LAST-MODIFIED:20260218T224330Z
UID:7723-1796455800-1796508000@www.strattoncommunity.co.uk
SUMMARY:Chris Gorton Bingo @ The Stratton Village Hall
DESCRIPTION:This one is to raise money for The Lakes\, South Cerney (the order of St. Johns Care Trust).\nTel: 07969476435 to reserve a place
URL:https://www.strattoncommunity.co.uk/event/chris-gorton-bingo-10/
LOCATION:Stratton Village Hall\, Thessaly Road\, GL7 2NG\, United Kingdom
ATTACH;FMTTYPE=image/jpeg:https://www.strattoncommunity.co.uk/wp-content/uploads/2026/01/20260131_114848.jpg
ORGANIZER;CN="Chris Gorton":MAILTO:gorton.christine@yahoo.com
END:VEVENT
END:VCALENDAR