BEGIN:VCALENDAR
VERSION:2.0
PRODID:-//Stratton Community - ECPv6.15.16//NONSGML v1.0//EN
CALSCALE:GREGORIAN
METHOD:PUBLISH
X-WR-CALNAME:Stratton Community
X-ORIGINAL-URL:https://www.strattoncommunity.co.uk
X-WR-CALDESC:Events for Stratton Community
REFRESH-INTERVAL;VALUE=DURATION:PT1H
X-Robots-Tag:noindex
X-PUBLISHED-TTL:PT1H
BEGIN:VTIMEZONE
TZID:Europe/London
BEGIN:DAYLIGHT
TZOFFSETFROM:+0000
TZOFFSETTO:+0100
TZNAME:BST
DTSTART:20250330T010000
END:DAYLIGHT
BEGIN:STANDARD
TZOFFSETFROM:+0100
TZOFFSETTO:+0000
TZNAME:GMT
DTSTART:20251026T010000
END:STANDARD
BEGIN:DAYLIGHT
TZOFFSETFROM:+0000
TZOFFSETTO:+0100
TZNAME:BST
DTSTART:20260329T010000
END:DAYLIGHT
BEGIN:STANDARD
TZOFFSETFROM:+0100
TZOFFSETTO:+0000
TZNAME:GMT
DTSTART:20261025T010000
END:STANDARD
BEGIN:DAYLIGHT
TZOFFSETFROM:+0000
TZOFFSETTO:+0100
TZNAME:BST
DTSTART:20270328T010000
END:DAYLIGHT
BEGIN:STANDARD
TZOFFSETFROM:+0100
TZOFFSETTO:+0000
TZNAME:GMT
DTSTART:20271031T010000
END:STANDARD
END:VTIMEZONE
BEGIN:VEVENT
DTSTART;TZID=Europe/London:20260613T100000
DTEND;TZID=Europe/London:20260613T133000
DTSTAMP:20260421T121502
CREATED:20260406T171524Z
LAST-MODIFIED:20260406T171524Z
UID:7989-1781344800-1781357400@www.strattoncommunity.co.uk
SUMMARY:REPAIR CAFE
DESCRIPTION:We can try to mend toys\, Clothes\, small electricals\, household items and bikes. \nWe meet at the Baptist Church\, Chesterton Lane\, GL7 1YE. \nTel: 07526676822 or facebook.com/cirenrepaircafe
URL:https://www.strattoncommunity.co.uk/event/repair-cafe-3/
ATTACH;FMTTYPE=image/jpeg:https://www.strattoncommunity.co.uk/wp-content/uploads/2026/04/Logo-v1-1.jpg
END:VEVENT
BEGIN:VEVENT
DTSTART;TZID=Europe/London:20260613T193000
DTEND;TZID=Europe/London:20260613T220000
DTSTAMP:20260421T121502
CREATED:20260217T223709Z
LAST-MODIFIED:20260219T104611Z
UID:7707-1781379000-1781388000@www.strattoncommunity.co.uk
SUMMARY:Chris Gorton Bingo @ The Stratton Village Hall
DESCRIPTION:This one is to raise money for the Phoenix Festival
URL:https://www.strattoncommunity.co.uk/event/chris-gorton-bingo-4/
LOCATION:Stratton Village Hall\, Thessaly Road\, GL7 2NG\, United Kingdom
ATTACH;FMTTYPE=image/png:https://www.strattoncommunity.co.uk/wp-content/uploads/2026/02/Copy-of-Untitled-1.png
END:VEVENT
BEGIN:VEVENT
DTSTART;TZID=Europe/London:20260618T190000
DTEND;TZID=Europe/London:20260618T210000
DTSTAMP:20260421T121503
CREATED:20260217T222334Z
LAST-MODIFIED:20260219T104732Z
UID:7680-1781809200-1781816400@www.strattoncommunity.co.uk
SUMMARY:Stratton W.I
DESCRIPTION:The Remarkable History Of Shoes – Sally Ferrers
URL:https://www.strattoncommunity.co.uk/event/stratton-w-i-5/
LOCATION:Stratton Village Hall\, Thessaly Road\, GL7 2NG\, United Kingdom
ATTACH;FMTTYPE=image/webp:https://www.strattoncommunity.co.uk/wp-content/uploads/2026/01/WI-Image.webp
END:VEVENT
BEGIN:VEVENT
DTSTART;TZID=Europe/London:20260629T140000
DTEND;TZID=Europe/London:20260629T160000
DTSTAMP:20260421T121503
CREATED:20260309T152353Z
LAST-MODIFIED:20260309T153857Z
UID:7857-1782741600-1782748800@www.strattoncommunity.co.uk
SUMMARY:Stratton School Fayre
DESCRIPTION:Raising funds for Stratton School PTA. \nSponsored by Cain and Fuller. \n  \n  \n 
URL:https://www.strattoncommunity.co.uk/event/stratton-school-fayre/
LOCATION:Stratton Village Hall\, Thessaly Road\, GL7 2NG\, United Kingdom
ATTACH;FMTTYPE=image/jpeg:https://www.strattoncommunity.co.uk/wp-content/uploads/2026/03/FB_IMG_1773064441302.jpg
END:VEVENT
END:VCALENDAR